BEGIN:VCALENDAR
VERSION:2.0
PRODID:icalendar-ruby
CALSCALE:GREGORIAN
METHOD:PUBLISH
BEGIN:VEVENT
DTSTAMP:20260424T143324Z
UID:6-412751@ccmilwaukee.com
DTSTART:20260813T000000Z
DTEND:20260813T013000Z
CLASS:PUBLIC
CREATED:20260424T072322
DESCRIPTION:
LAST-MODIFIED:20260424T072322
LOCATION:7368 N Teutonia Ave\, Milwaukee\, WI 53209
SUMMARY:Wednesday Service
URL;VALUE=URI:https://www.ccmilwaukee.com/events/wednesday-service/2026-08-
 12
ATTACH;FILENAME=IMG_7088.jpg;FMTTYPE=image/jpeg:https://dq5pwpg1q8ru0.cloud
 front.net/2024/12/22/00/49/43/8f3fb9f2-8f79-4d8d-a123-ae40d800a99f/IMG_708
 8.jpg
END:VEVENT
END:VCALENDAR
